Workbook
Name Employee_Absence_Title: 근무표!$B$1
Name Key_name: 근무표!$B$2
Name 개인사유키: 근무표!$F$2
Name 개인사유키레이블: 근무표!$G$2
Name 달력연도: 근무표!$AH$4
Name 병가키: 근무표!$I$2
Name 병가키레이블: 근무표!$J$2
Name 사용자지정키1: 근무표!$L$2
Name 사용자지정키1레이블: 근무표!$M$2
Name 사용자지정키2: 근무표!$Q$2
Name 사용자지정키2레이블: 근무표!$R$2
Name 열제목13: 직원이름[[#Headers],[직원 이름]]
Name 월이름: 근무표!$B$4
Name 제목1: _1월[[#Headers],[직원 이름]]
Name 제목10: #REF!
Name 제목11: #REF!
Name 제목12: #REF!
Name 제목2: #REF!
Name 제목3: #REF!
Name 제목4: #REF!
Name 제목5: #REF!
Name 제목6: #REF!
Name 제목7: #REF!
Name 제목8: #REF!
Name 제목9: #REF!
Name 휴가키: 근무표!$C$2
Name 휴가키레이블: 근무표!$D$2

Sheet 근무표
B1: 직원근무표
B2: 휴가 유형 키 | C2: V | D2: 휴가 | F2: P | G2: 개인 | I2: S | J2: 병가 | L2: 근 | M2: 근무 | Q2: 결 | R2: 결근
AH3: 연도 입력:
B4: 1 | C4: 직원 근무표 | AH4: 2023
C5: =TEXT(WEEKDAY(DATE(달력연도,$B$4,C6),1),"aaa") -> 일 | D5: =TEXT(WEEKDAY(DATE(달력연도,$B$4,D6),1),"aaa") -> 월 | E5: =TEXT(WEEKDAY(DATE(달력연도,$B$4,E6),1),"aaa") -> 화 | F5: =TEXT(WEEKDAY(DATE(달력연도,$B$4,F6),1),"aaa") -> 수 | G5: =TEXT(WEEKDAY(DATE(달력연도,$B$4,G6),1),"aaa") -> 목 | H5: =TEXT(WEEKDAY(DATE(달력연도,$B$4,H6),1),"aaa") -> 금 | I5: =TEXT(WEEKDAY(DATE(달력연도,$B$4,I6),1),"aaa") -> 토 | J5: =TEXT(WEEKDAY(DATE(달력연도,$B$4,J6),1),"aaa") -> 일 | ... AG5: =TEXT(WEEKDAY(DATE(달력연도,$B$4,AG6),1),"aaa") -> 화 | AN5: V | AP5: P | AR5: S | AT5: 근 | AV5: 결
B6: 직원 이름 | C6: 1 | D6: 2 | E6: 3 | F6: 4 | G6: 5 | H6: 6 | I6: 7 | J6: 8 | K6: 9 | L6: 10 | M6: 11 | N6: 12 | O6: 13 | P6: 14 | Q6: 15 | R6: 16 | S6: 17 | T6: 18 | U6: 19 | V6: 20 | W6: 21 | X6: 22 | Y6: 23 | Z6: 24 | AA6: 25 | AB6: 26 | AC6: 27 | AD6: 28 | AE6: 29 | AF6: 30 | AG6: 31 | AH6: 총 일수 | AN6: 휴가 | AO6: % | AP6: 개인 | AQ6: % | AR6: 병가 | AS6: % | AT6: 근무 | AU6: % | AV6: 결근 | AW6: %
B7: 직원 1 | C7: 근 | D7: 근 | E7: V | F7: V | G7: V | H7: V | I7: 근 | J7: 근 | K7: 근 | L7: 근 | M7: 결 | N7: 결 | O7: V | P7: S | Q7: S | R7: S | S7: S | T7: S | U7: S | V7: P | W7: P | X7: P | Y7: 근 | Z7: 근 | AA7: 근 | AB7: 근 | AC7: 결 | AD7: 결 | AE7: V | AF7: V | AG7: V | AH7: =COUNTA(근무표!$C7:$AG7) -> 31 | AM7: =_1월[[#This Row],[직원 이름]] -> 직원 1 | AN7: =COUNTIF(_1월[[#This Row],[1]:[31]],$AN$5) -> 8 | AO7: =IFERROR(AN7/_1월[[#This Row],[총 일수]],"") -> 0.25806452 | AP7: =COUNTIF(_1월[[#This Row],[1]:[31]],$AP$5) -> 3 | AQ7: =IFERROR(AP7/_1월[[#This Row],[총 일수]],"") -> 0.096774194 | AR7: =COUNTIF(_1월[[#This Row],[1]:[31]],$AR$5) -> 6 | AS7: =IFERROR(AR7/_1월[[#This Row],[총 일수]],"") -> 0.19354839 | AT7: =COUNTIF(_1월[[#This Row],[1]:[31]],$AT$5) -> 10 | AU7: =IFERROR(AT7/_1월[[#This Row],[총 일수]],"") -> 0.32258065 | AV7: =COUNTIF(_1월[[#This Row],[1]:[31]],$AV$5) -> 4 | AW7: =IFERROR(AV7/_1월[[#This Row],[총 일수]],"") -> 0.12903226
B8: 직원 2 | C8: V | D8: V | E8: V | F8: 근 | G8: 근 | H8: 근 | I8: 근 | J8: 결 | K8: 결 | L8: V | M8: S | N8: S | O8: S | P8: S | Q8: S | R8: S | S8: P | T8: P | U8: P | V8: 근 | W8: 근 | X8: 근 | Y8: 근 | Z8: 결 | AA8: 결 | AB8: V | AC8: V | AD8: V | AE8: 근 | AF8: 근 | AG8: 근 | AH8: =COUNTA(근무표!$C8:$AG8) -> 31 | AM8: =_1월[[#This Row],[직원 이름]] -> 직원 2 | AN8: =COUNTIF(_1월[[#This Row],[1]:[31]],$AN$5) -> 7 | AO8: =IFERROR(AN8/_1월[[#This Row],[총 일수]],"") -> 0.22580645 | AP8: =COUNTIF(_1월[[#This Row],[1]:[31]],$AP$5) -> 3 | AQ8: =IFERROR(AP8/_1월[[#This Row],[총 일수]],"") -> 0.096774194 | AR8: =COUNTIF(_1월[[#This Row],[1]:[31]],$AR$5) -> 6 | AS8: =IFERROR(AR8/_1월[[#This Row],[총 일수]],"") -> 0.19354839 | AT8: =COUNTIF(_1월[[#This Row],[1]:[31]],$AT$5) -> 11 | AU8: =IFERROR(AT8/_1월[[#This Row],[총 일수]],"") -> 0.35483871 | AV8: =COUNTIF(_1월[[#This Row],[1]:[31]],$AV$5) -> 4 | AW8: =IFERROR(AV8/_1월[[#This Row],[총 일수]],"") -> 0.12903226
B9: 직원 3 | AH9: =COUNTA(근무표!$C9:$AG9) -> 0 | AM9: =_1월[[#This Row],[직원 이름]] -> 직원 3 | AN9: =COUNTIF(_1월[[#This Row],[1]:[31]],$AN$5) -> 0 | AO9: =IFERROR(AN9/_1월[[#This Row],[총 일수]],"") | AP9: =COUNTIF(_1월[[#This Row],[1]:[31]],$AP$5) -> 0 | AQ9: =IFERROR(AP9/_1월[[#This Row],[총 일수]],"") | AR9: =COUNTIF(_1월[[#This Row],[1]:[31]],$AR$5) -> 0 | AS9: =IFERROR(AR9/_1월[[#This Row],[총 일수]],"") | AT9: =COUNTIF(_1월[[#This Row],[1]:[31]],$AT$5) -> 0 | AU9: =IFERROR(AT9/_1월[[#This Row],[총 일수]],"") | AV9: =COUNTIF(_1월[[#This Row],[1]:[31]],$AV$5) -> 0 | AW9: =IFERROR(AV9/_1월[[#This Row],[총 일수]],"")
B10: 직원 4 | AH10: =COUNTA(근무표!$C10:$AG10) -> 0 | AM10: =_1월[[#This Row],[직원 이름]] -> 직원 4 | AN10: =COUNTIF(_1월[[#This Row],[1]:[31]],$AN$5) -> 0 | AO10: =IFERROR(AN10/_1월[[#This Row],[총 일수]],"") | AP10: =COUNTIF(_1월[[#This Row],[1]:[31]],$AP$5) -> 0 | AQ10: =IFERROR(AP10/_1월[[#This Row],[총 일수]],"") | AR10: =COUNTIF(_1월[[#This Row],[1]:[31]],$AR$5) -> 0 | AS10: =IFERROR(AR10/_1월[[#This Row],[총 일수]],"") | AT10: =COUNTIF(_1월[[#This Row],[1]:[31]],$AT$5) -> 0 | AU10: =IFERROR(AT10/_1월[[#This Row],[총 일수]],"") | AV10: =COUNTIF(_1월[[#This Row],[1]:[31]],$AV$5) -> 0 | AW10: =IFERROR(AV10/_1월[[#This Row],[총 일수]],"")
B11: 직원 5 | AH11: =COUNTA(근무표!$C11:$AG11) -> 0 | AM11: =_1월[[#This Row],[직원 이름]] -> 직원 5 | AN11: =COUNTIF(_1월[[#This Row],[1]:[31]],$AN$5) -> 0 | AO11: =IFERROR(AN11/_1월[[#This Row],[총 일수]],"") | AP11: =COUNTIF(_1월[[#This Row],[1]:[31]],$AP$5) -> 0 | AQ11: =IFERROR(AP11/_1월[[#This Row],[총 일수]],"") | AR11: =COUNTIF(_1월[[#This Row],[1]:[31]],$AR$5) -> 0 | AS11: =IFERROR(AR11/_1월[[#This Row],[총 일수]],"") | AT11: =COUNTIF(_1월[[#This Row],[1]:[31]],$AT$5) -> 0 | AU11: =IFERROR(AT11/_1월[[#This Row],[총 일수]],"") | AV11: =COUNTIF(_1월[[#This Row],[1]:[31]],$AV$5) -> 0 | AW11: =IFERROR(AV11/_1월[[#This Row],[총 일수]],"")
B12: 직원 6 | G12: S | H12: S | M12: P | V12: S | AA12: V | AB12: V | AC12: V | AH12: =COUNTA(근무표!$C12:$AG12) -> 7 | AM12: =_1월[[#This Row],[직원 이름]] -> 직원 6 | AN12: =COUNTIF(_1월[[#This Row],[1]:[31]],$AN$5) -> 3 | AO12: =IFERROR(AN12/_1월[[#This Row],[총 일수]],"") -> 0.42857143 | AP12: =COUNTIF(_1월[[#This Row],[1]:[31]],$AP$5) -> 1 | AQ12: =IFERROR(AP12/_1월[[#This Row],[총 일수]],"") -> 0.14285714 | AR12: =COUNTIF(_1월[[#This Row],[1]:[31]],$AR$5) -> 3 | AS12: =IFERROR(AR12/_1월[[#This Row],[총 일수]],"") -> 0.42857143 | AT12: =COUNTIF(_1월[[#This Row],[1]:[31]],$AT$5) -> 0 | AU12: =IFERROR(AT12/_1월[[#This Row],[총 일수]],"") -> 0 | AV12: =COUNTIF(_1월[[#This Row],[1]:[31]],$AV$5) -> 0 | AW12: =IFERROR(AV12/_1월[[#This Row],[총 일수]],"") -> 0
B13: 직원 7 | E13: P | P13: S | AE13: S | AH13: =COUNTA(근무표!$C13:$AG13) -> 3 | AM13: =_1월[[#This Row],[직원 이름]] -> 직원 7 | AN13: =COUNTIF(_1월[[#This Row],[1]:[31]],$AN$5) -> 0 | AO13: =IFERROR(AN13/_1월[[#This Row],[총 일수]],"") -> 0 | AP13: =COUNTIF(_1월[[#This Row],[1]:[31]],$AP$5) -> 1 | AQ13: =IFERROR(AP13/_1월[[#This Row],[총 일수]],"") -> 0.33333333 | AR13: =COUNTIF(_1월[[#This Row],[1]:[31]],$AR$5) -> 2 | AS13: =IFERROR(AR13/_1월[[#This Row],[총 일수]],"") -> 0.66666667 | AT13: =COUNTIF(_1월[[#This Row],[1]:[31]],$AT$5) -> 0 | AU13: =IFERROR(AT13/_1월[[#This Row],[총 일수]],"") -> 0 | AV13: =COUNTIF(_1월[[#This Row],[1]:[31]],$AV$5) -> 0 | AW13: =IFERROR(AV13/_1월[[#This Row],[총 일수]],"") -> 0
B14: 직원 8 | I14: P | U14: V | V14: V | W14: V | AH14: =COUNTA(근무표!$C14:$AG14) -> 4 | AM14: =_1월[[#This Row],[직원 이름]] -> 직원 8 | AN14: =COUNTIF(_1월[[#This Row],[1]:[31]],$AN$5) -> 3 | AO14: =IFERROR(AN14/_1월[[#This Row],[총 일수]],"") -> 0.75 | AP14: =COUNTIF(_1월[[#This Row],[1]:[31]],$AP$5) -> 1 | AQ14: =IFERROR(AP14/_1월[[#This Row],[총 일수]],"") -> 0.25 | AR14: =COUNTIF(_1월[[#This Row],[1]:[31]],$AR$5) -> 0 | AS14: =IFERROR(AR14/_1월[[#This Row],[총 일수]],"") -> 0 | AT14: =COUNTIF(_1월[[#This Row],[1]:[31]],$AT$5) -> 0 | AU14: =IFERROR(AT14/_1월[[#This Row],[총 일수]],"") -> 0 | AV14: =COUNTIF(_1월[[#This Row],[1]:[31]],$AV$5) -> 0 | AW14: =IFERROR(AV14/_1월[[#This Row],[총 일수]],"") -> 0
B15: 직원 9 | AH15: =COUNTA(근무표!$C15:$AG15) -> 0 | AM15: =_1월[[#This Row],[직원 이름]] -> 직원 9 | AN15: =COUNTIF(_1월[[#This Row],[1]:[31]],$AN$5) -> 0 | AO15: =IFERROR(AN15/_1월[[#This Row],[총 일수]],"") | AP15: =COUNTIF(_1월[[#This Row],[1]:[31]],$AP$5) -> 0 | AQ15: =IFERROR(AP15/_1월[[#This Row],[총 일수]],"") | AR15: =COUNTIF(_1월[[#This Row],[1]:[31]],$AR$5) -> 0 | AS15: =IFERROR(AR15/_1월[[#This Row],[총 일수]],"") | AT15: =COUNTIF(_1월[[#This Row],[1]:[31]],$AT$5) -> 0 | AU15: =IFERROR(AT15/_1월[[#This Row],[총 일수]],"") | AV15: =COUNTIF(_1월[[#This Row],[1]:[31]],$AV$5) -> 0 | AW15: =IFERROR(AV15/_1월[[#This Row],[총 일수]],"")
B16: 직원 10 | AH16: =COUNTA(근무표!$C16:$AG16) -> 0 | AM16: =_1월[[#This Row],[직원 이름]] -> 직원 10 | AN16: =COUNTIF(_1월[[#This Row],[1]:[31]],$AN$5) -> 0 | AO16: =IFERROR(AN16/_1월[[#This Row],[총 일수]],"") | AP16: =COUNTIF(_1월[[#This Row],[1]:[31]],$AP$5) -> 0 | AQ16: =IFERROR(AP16/_1월[[#This Row],[총 일수]],"") | AR16: =COUNTIF(_1월[[#This Row],[1]:[31]],$AR$5) -> 0 | AS16: =IFERROR(AR16/_1월[[#This Row],[총 일수]],"") | AT16: =COUNTIF(_1월[[#This Row],[1]:[31]],$AT$5) -> 0 | AU16: =IFERROR(AT16/_1월[[#This Row],[총 일수]],"") | AV16: =COUNTIF(_1월[[#This Row],[1]:[31]],$AV$5) -> 0 | AW16: =IFERROR(AV16/_1월[[#This Row],[총 일수]],"")
B17: 직원 11 | AH17: =COUNTA(근무표!$C17:$AG17) -> 0 | AM17: =_1월[[#This Row],[직원 이름]] -> 직원 11 | AN17: =COUNTIF(_1월[[#This Row],[1]:[31]],$AN$5) -> 0 | AO17: =IFERROR(AN17/_1월[[#This Row],[총 일수]],"") | AP17: =COUNTIF(_1월[[#This Row],[1]:[31]],$AP$5) -> 0 | AQ17: =IFERROR(AP17/_1월[[#This Row],[총 일수]],"") | AR17: =COUNTIF(_1월[[#This Row],[1]:[31]],$AR$5) -> 0 | AS17: =IFERROR(AR17/_1월[[#This Row],[총 일수]],"") | AT17: =COUNTIF(_1월[[#This Row],[1]:[31]],$AT$5) -> 0 | AU17: =IFERROR(AT17/_1월[[#This Row],[총 일수]],"") | AV17: =COUNTIF(_1월[[#This Row],[1]:[31]],$AV$5) -> 0 | AW17: =IFERROR(AV17/_1월[[#This Row],[총 일수]],"")
B18: 직원 12 | F18: S | G18: V | H18: V | S18: S | Z18: S | AG18: V | AH18: =COUNTA(근무표!$C18:$AG18) -> 6 | AM18: =_1월[[#This Row],[직원 이름]] -> 직원 12 | AN18: =COUNTIF(_1월[[#This Row],[1]:[31]],$AN$5) -> 3 | AO18: =IFERROR(AN18/_1월[[#This Row],[총 일수]],"") -> 0.5 | AP18: =COUNTIF(_1월[[#This Row],[1]:[31]],$AP$5) -> 0 | AQ18: =IFERROR(AP18/_1월[[#This Row],[총 일수]],"") -> 0 | AR18: =COUNTIF(_1월[[#This Row],[1]:[31]],$AR$5) -> 3 | AS18: =IFERROR(AR18/_1월[[#This Row],[총 일수]],"") -> 0.5 | AT18: =COUNTIF(_1월[[#This Row],[1]:[31]],$AT$5) -> 0 | AU18: =IFERROR(AT18/_1월[[#This Row],[총 일수]],"") -> 0 | AV18: =COUNTIF(_1월[[#This Row],[1]:[31]],$AV$5) -> 0 | AW18: =IFERROR(AV18/_1월[[#This Row],[총 일수]],"") -> 0
B19: =월이름&" 요약" -> 1 요약 | C19: =SUBTOTAL(103,근무표!$C$7:$C$18) -> 2 | D19: =SUBTOTAL(103,근무표!$D$7:$D$18) -> 2 | E19: =SUBTOTAL(103,근무표!$E$7:$E$18) -> 3 | F19: =SUBTOTAL(103,근무표!$F$7:$F$18) -> 3 | G19: =SUBTOTAL(103,근무표!$G$7:$G$18) -> 4 | H19: =SUBTOTAL(103,근무표!$H$7:$H$18) -> 4 | I19: =SUBTOTAL(103,근무표!$I$7:$I$18) -> 3 | J19: =SUBTOTAL(103,근무표!$J$7:$J$18) -> 2 | K19: =SUBTOTAL(103,근무표!$K$7:$K$18) -> 2 | L19: =SUBTOTAL(103,근무표!$L$7:$L$18) -> 2 | M19: =SUBTOTAL(103,근무표!$M$7:$M$18) -> 3 | N19: =SUBTOTAL(103,근무표!$N$7:$N$18) -> 2 | O19: =SUBTOTAL(103,근무표!$O$7:$O$18) -> 2 | P19: =SUBTOTAL(103,근무표!$P$7:$P$18) -> 3 | Q19: =SUBTOTAL(103,근무표!$Q$7:$Q$18) -> 2 | R19: =SUBTOTAL(103,근무표!$R$7:$R$18) -> 2 | S19: =SUBTOTAL(103,근무표!$S$7:$S$18) -> 3 | T19: =SUBTOTAL(103,근무표!$T$7:$T$18) -> 2 | U19: =SUBTOTAL(103,근무표!$U$7:$U$18) -> 3 | V19: =SUBTOTAL(103,근무표!$V$7:$V$18) -> 4 | W19: =SUBTOTAL(103,근무표!$W$7:$W$18) -> 3 | X19: =SUBTOTAL(103,근무표!$X$7:$X$18) -> 2 | Y19: =SUBTOTAL(103,근무표!$Y$7:$Y$18) -> 2 | Z19: =SUBTOTAL(103,근무표!$Z$7:$Z$18) -> 3 | AA19: =SUBTOTAL(103,근무표!$AA$7:$AA$18) -> 3 | AB19: =SUBTOTAL(103,근무표!$AB$7:$AB$18) -> 3 | AC19: =SUBTOTAL(103,근무표!$AC$7:$AC$18) -> 3 | AD19: =SUBTOTAL(103,근무표!$AD$7:$AD$18) -> 2 | AE19: =SUBTOTAL(103,근무표!$AE$7:$AE$18) -> 3 | AF19: =SUBTOTAL(103,근무표!$AF$7:$AF$18) -> 2 | AG19: =SUBTOTAL(103,근무표!$AG$7:$AG$18) -> 3 | AH19: =SUBTOTAL(109,_1월[총 일수]) -> 82

Sheet 직원 이름
B1: 직원 이름
B3: 직원 이름
B4: 직원 1
B5: 직원 2
B6: 직원 3
B7: 직원 4
B8: 직원 5
B9: 직원 6
B10: 직원 7
B11: 직원 8
B12: 직원 9
B13: 직원 10
... B17: 직원 14
